BEGIN:VCALENDAR
PRODID:-//Microsoft Corporation//Outlook 12.0 MIMEDIR//EN
VERSION:2.0
METHOD:PUBLISH
X-MS-OLK-FORCEINSPECTOROPEN:TRUE
BEGIN:VEVENT
CLASS:PUBLIC
DESCRIPTION:Dona il tuo 5x1000 all'Associazione Piccoli Punti ETS.\nCodice fiscale: 04065400287.\nIl 730 dovrà essere presentato tra il 30 aprile ed il 30 settembre.
DTEND:20260930T123000Z
DTSTART:20260430T090000Z
LOCATION:
PRIORITY:5
SEQUENCE:0
SUMMARY;LANGUAGE=en-us:5x1000 Associazione Piccoli Punti ETS
TRANSP:OPAQUE
UID:5x1000piccolipunti2026
X-MICROSOFT-CDO-BUSYSTATUS:BUSY
X-MICROSOFT-CDO-IMPORTANCE:1
X-MICROSOFT-DISALLOW-COUNTER:FALSE
X-MS-OLK-ALLOWEXTERNCHECK:TRUE
X-MS-OLK-AUTOFILLLOCATION:FALSE
X-MS-OLK-CONFTYPE:0
BEGIN:VALARM
TRIGGER:-PT1440M
ACTION:DISPLAY
DESCRIPTION:Reminder
END:VALARM
END:VEVENT
END:VCALENDAR